BEGIN:VCALENDAR
VERSION:2.0
PRODID:-//Musikverein Schwieberdingen e.V. - ECPv6.15.18//NONSGML v1.0//EN
CALSCALE:GREGORIAN
METHOD:PUBLISH
X-WR-CALNAME:Musikverein Schwieberdingen e.V.
X-ORIGINAL-URL:https://mv-schwieberdingen.de
X-WR-CALDESC:Veranstaltungen für Musikverein Schwieberdingen e.V.
REFRESH-INTERVAL;VALUE=DURATION:PT1H
X-Robots-Tag:noindex
X-PUBLISHED-TTL:PT1H
BEGIN:VTIMEZONE
TZID:Europe/Berlin
BEGIN:DAYLIGHT
TZOFFSETFROM:+0100
TZOFFSETTO:+0200
TZNAME:CEST
DTSTART:20250330T010000
END:DAYLIGHT
BEGIN:STANDARD
TZOFFSETFROM:+0200
TZOFFSETTO:+0100
TZNAME:CET
DTSTART:20251026T010000
END:STANDARD
BEGIN:DAYLIGHT
TZOFFSETFROM:+0100
TZOFFSETTO:+0200
TZNAME:CEST
DTSTART:20260329T010000
END:DAYLIGHT
BEGIN:STANDARD
TZOFFSETFROM:+0200
TZOFFSETTO:+0100
TZNAME:CET
DTSTART:20261025T010000
END:STANDARD
BEGIN:DAYLIGHT
TZOFFSETFROM:+0100
TZOFFSETTO:+0200
TZNAME:CEST
DTSTART:20270328T010000
END:DAYLIGHT
BEGIN:STANDARD
TZOFFSETFROM:+0200
TZOFFSETTO:+0100
TZNAME:CET
DTSTART:20271031T010000
END:STANDARD
END:VTIMEZONE
BEGIN:VEVENT
DTSTART;VALUE=DATE:20260424
DTEND;VALUE=DATE:20260428
DTSTAMP:20260421T155734
CREATED:20251101T090245Z
LAST-MODIFIED:20260417T081310Z
UID:5451-1776988800-1777334399@mv-schwieberdingen.de
SUMMARY:Musikfest
DESCRIPTION:Vom 24. bis 27. April 2026 erwartet Euch ein unvergessliches Wochenende voller Highlights auf dem Festplatz Schwieberdingen. Freut Euch auf Live-Musik mit tollen Bands und Orchestern – für jeden ist etwas dabei!\n     \n \n   \n\n\n      Freitag\, 24.04.2026\n      Eintritt frei\n    \n\n      Freut Euch auf einen Abend voller mitreißender Brass-Sounds\, tanzbarer Beats und ausgelassener Festzeltstimmung. Egal ob eingefleischter Blasmusik-Fan oder neugieriger Neuentdecker – hier kommt jeder auf seine Kosten.\n    \n\n\n\n          19:00Einlass\n        \n\nDie Türen öffnen sich – der Abend kann beginnen! \n \n\n\n\n          20:30Blech X-Plosion\n        \n\n\n            Erlebt mit Percy & the BrassMaschine und Jack Russel’s Halsbänd zwei energiegeladene Brassbands auf der Bühne im großen Festzelt!\n           \n\n            Den Auftakt macht Percy & the BrassMachine aus Bietigheim-Bissingen. Die Band verbindet kraftvolle Blasinstrumente mit bekannten Pop-\, Rock- und Funk-Songs zu einem mitreißenden Sound. Ihr Motto „Brass Up Your Life“ ist Programm: Spielfreude\, Energie und jede Menge Groove machen Stillstehen praktisch unmöglich.\n           \n\n            Anschließend übernimmt Jack Russel’s Halsbänd die Bühne. Die zehnköpfige Formation steht für modernen Crossover-Brass. Mit maßgeschneiderten Arrangements bekannter Hits und ihrer explosiven Bühnenpräsenz begeistert sie ihr Publikum weit über die Region hinaus. Bekannt sind die Musiker unter anderem von großen Festivals wie der Brass Wiesn und dem Woodstock der Blasmusik. Ihr Sound ist druckvoll\, präzise und gleichzeitig unglaublich tanzbar – ein echtes Highlight für alle\, die Livemusik lieben.\n           \n          \n        \n\n \n   \n\n\n      Samstag\, 25.04.2026\n      Eintritt frei\n    \n\n      Der Samstag hält für jede Altersgruppe etwas bereit: Von der Mini-Disko für die Kleinsten bis hin zum mitreißenden Partyabend mit Knutschfleck. Ab 17:00 Uhr gibt es dann auch endlich die legendären Göckele und Fleischbrot vom Holzkohlengrill!\n    \n\n\n\n          14:30Mini-Disko mit sports and julez (ab 2 Jahren)\n        \n\n\n            Die Mini-Disko mit sports and julez ist ein Highlight für unsere jüngsten Gäste. Ab 14:30 Uhr können Kinder ab 2 Jahren gemeinsam mit ihren Eltern zu fröhlichen Beats tanzen und toben – ein riesen Spaß für die ganze Familie und der ideale Einstieg in ein Leben voller Musik und Bewegung.\n           \n \n\n\n\n          15:00Buntes Programm der Musikschule\n        \n\n\n            Die Musikschule Schwieberdingen zeigt\, wie vielfältig der musikalische Nachwuchs im Ort aufgestellt ist. Verschiedene Ensembles und Gruppen treten nacheinander auf der Bühne auf und geben Einblick in ihr Können – ein bunter Querschnitt durch die Talente des Hauses.\n           \n \n\n\n\n          18:00Musikverein Weildorf\n        \n\n\n            Extra für unser Musikfest reisen die Weildorfer vom Bodensee nach Schwieberdingen an\, um Euch mit ihrer Musik zu begeistern.\n           \n \n\n\n\n          21:00Party mit Knutschfleck\n        \n\n\n            Seit vielen Jahren gehört Knutschfleck fest zum Musikfest in Schwieberdingen. Mit ihrem ganz eigenen Mix aus NDW-Hits bringen sie das Festzelt zuverlässig zum Kochen – legt schon mal die Tanzschuhe bereit!\n           \n \n\n \n\n			\n	\n	\n		\n		© Luis Pankoke	\n	\n	\n	\n\n   \n\n\n      Sonntag\, 26.04.2026\n      Eintritt frei\n    \n\n      Der Sonntag startet besinnlich mit einem ökumenischen Gottesdienst und geht beim Frühschoppen mit dem MVS-Blasorchester gleich schwungvoll weiter. Den ganzen Tag über sind Musikvereine und Chöre aus der Region zu Gast – lehnt Euch zurück und lasst den Tag bei guter Musik gemütlich auf Euch wirken. Für den Nachwuchs gibt es von 14:00 bis 17:00 eine Spielstraße & Hüpfburg von Auto-Scheller und der MVS-Jugendkapelle.\n    \n\n\n\n          10:30Ökumenischer Gottesdienst\n        \n\n\n            Der ökumenische Gottesdienst am Sonntagmorgen lädt dazu ein\, gemeinsam innezuhalten und den Tag mit einem spirituellen Moment zu beginnen. Gestaltet wird er von den örtlichen Kirchengemeinden – willkommen ist jeder.\n           \n \n\n\n\n          11:30Frühschoppen mit dem MVS-Blasorchester\n        \n\n\n            Beim Frühschoppen spannt das Blasorchester des Musikverein Schwieberdingen einen weiten musikalischen Bogen – von traditioneller Blasmusik bis hin zu modernen Arrangements. Dazu ein kühles Getränk\, ein zünftiges Essen und gute Gesellschaft: Sonntag\, wie er sein soll.\n           \n \n\n\n\n          13:30Musikverein Stadtkapelle Freiberg\n        \n\n\n            Gegründet 1925 als Musikverein Beihingen besteht die Stadtkapelle heute aus 56 aktiven Musiker*innen und ist unter der Leitung von Georgi Lambrinov in Freiberg und Umgebung bestens bekannt.\n           \n \n\n\n\n          15:45Sängerbund & Tonträger\n        \n\n\n            Der Männerchor des Sängerbundes Schwieberdingen blickt auf eine lange Tradition zurück – gegründet wurde er bereits 1840. Heute singen rund 15 Männer aktiv im vierstimmigen Chor.\n           \n\n            Die tonträger sind ein Ensemble des Sängerbundes Schwieberdingen 1840 e.V. und verstehen sich als moderner gemischter Chor für Junge und Junggebliebene. Rund 22 Sängerinnen und Sänger erarbeiten unter der Leitung von Petra Frisch Lieder verschiedenster Stilrichtungen – von Film und Musical bis Pop.\n           \n \n\n\n\n          16:30Spielmanns- und Fanfarenzug Hemmingen\n        \n\n\n            Aus einem reinen Spielmannszug entwickelte sich über die Jahre ein Spielmanns- und Fanfarenzug und schließlich der heutige Musikzug\, den es in dieser Form seit 40 Jahren gibt. Ein kompletter Bläsersatz trifft hier auf die klassischen Spielmannszug-Instrumente wie Spielmannsflöte und Lyra\, ergänzt um Querflöten\, Saxophone und Klarinetten. Diese Kombination ergibt einen ganz eigenen Sound\, an dem der Musikzug des SZFZ Hemmingen seit Jahren im In- und Ausland erkannt wird.\n           \n \n\n\n\n          18:15Musikverein Enzberg\n        \n\n\n            Das große Blasorchester des MVE besteht aus rund 45 Musiker*innen mit einem breit gefächerten Repertoire – von konzertanter Blasmusik bis hin zu leichter Unterhaltung bei Festen und Ständchen ist alles dabei.\n           \n \n\n \n   \n\n\n      Montag\, 27.04.2026\n      Eintritt frei\n    \n\n      Am Montag könnt Ihr beim Mittagstisch sparen und genießen. Nach einer kurzen Verschnaufpause starten wir am Nachmittag noch einmal richtig durch. Den krönenden Abschluss bildet das Showprogramm des MVS mit einem bunten Partymix für Jung und Alt – lasst uns das Musikfest gemeinsam ausklingen lassen und noch einmal richtig feiern!\n    \n\n\n\n          11:30Mittagstisch mit den Oldies\n        \n\n\n            Sparen und genießen bei bester Unterhaltung – die Oldies des Musikverein Schwieberdingen sorgen für die passenden Klänge. Neben Fleischbrot und Göckele vom Holzkohlengrill erwartet Euch ein großes Angebot an Speisen und Getränken.\n           \n \n\n\n\n          14:00Pause\n        \n\n\n            Wir schnaufen kurz durch – von 14:00 bis 16:30 Uhr Pause\, um dann frisch gestärkt zum Finale anzusetzen!\n           \n \n\n\n\n          17:00MVS-Jugendkapelle\n        \n\n\n            Die Jugendkapelle des Musikvereins Schwieberdingen eröffnet den letzten Nachmittag des Musikfests.\n           \n \n\n\n\n          18:00Musikverein Ossweil Stadtkapelle Ludwigsburg\n        \n\n\n            Das große Blasorchester des Musikverein Ludwigsburg-Oßweil zählt rund 80 Musiker*innen und wird von den Oßweiler Vorstädtern liebevoll „Die Großen“ genannt. Die in allen Registern gleichmäßige Besetzung erlaubt ein breites Spektrum: konzertante und sinfonische Blasmusik\, gehobene Unterhaltung und natürlich auch zünftige Festzelt-Klänge.\n           \n \n\n\n\n          20:30Showprogramm MVS\n        \n\n\n            Das Montagabend-Showprogramm bildet den krönenden Abschluss des Musikfests. Mit Tanzeinlagen\, Spielen und einem bunten Partymix für Jung und Alt feiern wir gemeinsam.\n           \n\n        \n\n \n \nAnfahrt\nDer Festplatz Schwieberdingen befindet sich direkt am Bahnhof Schwieberdingen. Bitte beachtet\, dass auf dem Festplatz selbst keine Parkmöglichkeiten bestehen. Der große Parkplatz (Wiese) ist auf der Karte unten eingezeichnet. Fahrräder können am Bahnhof sicher abgestellt werden. Wir empfehlen die Anreise mit öffentlichen Verkehrsmitteln wie Bus und Bahn. \nAdresse:\nFestplatz Schwieberdingen\nBahnhofstr. 72\n71701 Schwieberdingen \n \nVollbildanzeige
URL:https://mv-schwieberdingen.de/event/musikfest-2026/
LOCATION:Festplatz Schwieberdingen\, Bahnhofstraße 72\, Schwieberdingen\, 71701\, Deutschland
CATEGORIES:Blasorchester,Jugendkapelle,Oldiekapelle
ATTACH;FMTTYPE=image/jpeg:https://mv-schwieberdingen.de/wp-content/uploads/2025/05/NE_01834.jpg
END:VEVENT
BEGIN:VEVENT
DTSTART;TZID=Europe/Berlin:20260424T190000
DTEND;TZID=Europe/Berlin:20260424T230000
DTSTAMP:20260421T155734
CREATED:20260219T142916Z
LAST-MODIFIED:20260407T063231Z
UID:5603-1777057200-1777071600@mv-schwieberdingen.de
SUMMARY:Blech X-Plosion
DESCRIPTION:Blasmusik ist längst nicht mehr nur Polka und Marschmusik – sie ist laut\, kreativ und absolut festivaltauglich. Gerade junge Bands zeigen heute\, wie modern Brass klingen kann: mit Beats aus Pop\, Rock und Funk\, energiegeladenen Liveshows und einer Atmosphäre\, die eher an ein Clubkonzert als an einen klassischen Musikabend erinnert. Wer also denkt\, Blasmusik sei nur etwas für Frühschoppen\, sollte sich dieses Event nicht entgehen lassen. \n\n\n \nMit der Blech X-Plosion startet das Musikfest Schwieberdingen am Freitag\, 24. April 2026 mit geballter Brass-Power ins Wochenende. Im großen Festzelt auf dem Festplatz sorgen gleich zwei energiegeladene Bands für beste Festivalstimmung – und das bei freiem Eintritt. Die Veranstaltung verspricht einen perfekten Mix aus Partyfeeling und echter Live-Energie. \nDen Auftakt macht Percy & the BrassMachine aus Bietigheim-Bissingen. Die Band verbindet kraftvolle Blasinstrumente mit bekannten Pop-\, Rock- und Funk-Songs und sorgt für einen mitreißenden Sound. Ihr Motto „Brass Up Your Life“ ist Programm: Spielfreude\, Energie und jede Menge Groove machen Stillstehen praktisch unmöglich. \n \nAnschließend übernimmt Jack Russel’s Halsbänd die Bühne. Die zehnköpfige Formation steht für modernen Crossover-Brass. Mit maßgeschneiderten Arrangements bekannter Hits und ihrer explosiven Bühnenpräsenz begeistern sie ihr Publikum weit über die Region hinaus. Bekannt sind sie unter anderem von großen Festivals wie der Brass Wiesn und dem Woodstock der Blasmusik\, wo sie regelmäßig für ausgelassene Stimmung sorgen. Ihr Sound ist druckvoll\, präzise und gleichzeitig unglaublich tanzbar – ein echtes Highlight für alle\, die Livemusik lieben. \n \nFreuen Sie sich auf einen Abend voller mitreißender Brass-Sounds\, tanzbarer Beats und ausgelassener Festzeltstimmung. Egal ob eingefleischter Blasmusik-Fan oder neugieriger Neuentdecker – hier kommt jeder auf seine Kosten. \nFreitag\, 24.04.2026\nFestplatz Schwieberdingen im großen Festzelt\nEinlass: 19:00 Uhr | Beginn: 20:30 Uhr\nEintritt frei!
URL:https://mv-schwieberdingen.de/event/blech-x-plosion/
LOCATION:Festplatz Schwieberdingen\, Bahnhofstraße 72\, Schwieberdingen\, 71701\, Deutschland
CATEGORIES:Blasorchester,Jugendkapelle,Oldiekapelle
ATTACH;FMTTYPE=image/jpeg:https://mv-schwieberdingen.de/wp-content/uploads/2025/05/NE_01518.jpg
END:VEVENT
BEGIN:VEVENT
DTSTART;TZID=Europe/Berlin:20261205T193000
DTEND;TZID=Europe/Berlin:20261205T213000
DTSTAMP:20260421T155734
CREATED:20260203T161045Z
LAST-MODIFIED:20260203T161054Z
UID:5555-1796499000-1796506200@mv-schwieberdingen.de
SUMMARY:Jahreskonzert
DESCRIPTION:
URL:https://mv-schwieberdingen.de/event/jahreskonzert-2026/
LOCATION:Turn- und Festhalle\, Herrenwiesenweg 21\, Schwieberdingen\, 71701\, Deutschland
CATEGORIES:Blasorchester,Jugendkapelle
ATTACH;FMTTYPE=image/jpeg:https://mv-schwieberdingen.de/wp-content/uploads/2025/12/A747005.jpg
END:VEVENT
END:VCALENDAR